BEGIN:VCALENDAR
VERSION:2.0
PRODID:-//eventon.com NONSGML v1.0//EN
CALSCALE:GREGORIAN
METHOD:PUBLISH
BEGIN:VEVENT
UID:69e774767d8ce
DTSTAMP:20260421T065830
DTSTART:20260610T000000Z
DTEND:20260610T010000Z
TZID:America/Chicago
LOCATION:Shiner Chamber of Commerce 817 N Ave E
SUMMARY:Chamber of Commerce Board Meeting
DESCRIPTION: Chamber of Commerce Board Meeting\nhttps://shinertx.com/events/chamber-of-commerce-board-meeting/var/ri-13.l-L1
URL:https://shinertx.com/events/chamber-of-commerce-board-meeting/var/ri-13.l-L1
END:VEVENT
END:VCALENDAR