BEGIN:VCALENDAR
VERSION:2.0
PRODID:-//eventon.com NONSGML v1.0//EN
CALSCALE:GREGORIAN
METHOD:PUBLISH
BEGIN:VEVENT
UID:69e775d0accf4
DTSTAMP:20260421T070416
DTSTART:20260812T000000Z
DTEND:20260812T010000Z
TZID:America/Chicago
LOCATION:Shiner Chamber of Commerce 817 N Ave E
SUMMARY:Chamber of Commerce Board Meeting
DESCRIPTION: Chamber of Commerce Board Meeting\nhttps://shinertx.com/events/chamber-of-commerce-board-meeting/var/ri-14.l-L1
URL:https://shinertx.com/events/chamber-of-commerce-board-meeting/var/ri-14.l-L1
END:VEVENT
END:VCALENDAR